BEGIN:VCALENDAR
VERSION:2.0
PRODID:-//JACETANIA EXPRESS - ECPv6.15.20//NONSGML v1.0//EN
CALSCALE:GREGORIAN
METHOD:PUBLISH
X-ORIGINAL-URL:https://jacetaniaexpress.com
X-WR-CALDESC:Eventos para JACETANIA EXPRESS
REFRESH-INTERVAL;VALUE=DURATION:PT1H
X-Robots-Tag:noindex
X-PUBLISHED-TTL:PT1H
BEGIN:VTIMEZONE
TZID:Europe/Paris
BEGIN:DAYLIGHT
TZOFFSETFROM:+0100
TZOFFSETTO:+0200
TZNAME:CEST
DTSTART:20250330T010000
END:DAYLIGHT
BEGIN:STANDARD
TZOFFSETFROM:+0200
TZOFFSETTO:+0100
TZNAME:CET
DTSTART:20251026T010000
END:STANDARD
BEGIN:DAYLIGHT
TZOFFSETFROM:+0100
TZOFFSETTO:+0200
TZNAME:CEST
DTSTART:20260329T010000
END:DAYLIGHT
BEGIN:STANDARD
TZOFFSETFROM:+0200
TZOFFSETTO:+0100
TZNAME:CET
DTSTART:20261025T010000
END:STANDARD
BEGIN:DAYLIGHT
TZOFFSETFROM:+0100
TZOFFSETTO:+0200
TZNAME:CEST
DTSTART:20270328T010000
END:DAYLIGHT
BEGIN:STANDARD
TZOFFSETFROM:+0200
TZOFFSETTO:+0100
TZNAME:CET
DTSTART:20271031T010000
END:STANDARD
END:VTIMEZONE
BEGIN:VEVENT
DTSTART;VALUE=DATE:20260405
DTEND;VALUE=DATE:20260601
DTSTAMP:20260421T203332
CREATED:20260420T224707Z
LAST-MODIFIED:20260420T224707Z
UID:244402-1775347200-1780271999@jacetaniaexpress.com
SUMMARY:Salidas guiadas Bienvenida Primavera en el Alto Gállego
DESCRIPTION:Salidas guiadas Bienvenida Primavera en el Alto Gállego
URL:https://jacetaniaexpress.com/evento/salidas-guiadas-bienvenida-primavera-en-el-alto-gallego/
ATTACH;FMTTYPE=image/jpeg:https://jacetaniaexpress.com/wp-content/uploads/2026/04/667325080_1377824211054002_6696716235302179785_n.jpg
END:VEVENT
BEGIN:VEVENT
DTSTART;TZID=Europe/Paris:20260419T080000
DTEND;TZID=Europe/Paris:20261004T170000
DTSTAMP:20260421T203332
CREATED:20260420T223035Z
LAST-MODIFIED:20260420T223035Z
UID:244394-1776585600-1791133200@jacetaniaexpress.com
SUMMARY:Salidas 'Conociendo rincones de La Jacetania'
DESCRIPTION:Salidas guiadas Bienvenida Primavera en el Alto Gállego
URL:https://jacetaniaexpress.com/evento/salidas-conociendo-rincones-de-la-jacetania/
ATTACH;FMTTYPE=image/png:https://jacetaniaexpress.com/wp-content/uploads/2026/04/Primera-salida-19-de-abril.png
END:VEVENT
END:VCALENDAR