BEGIN:VCALENDAR
VERSION:2.0
PRODID:-//JACETANIA EXPRESS - ECPv6.15.20//NONSGML v1.0//EN
CALSCALE:GREGORIAN
METHOD:PUBLISH
X-ORIGINAL-URL:https://jacetaniaexpress.com
X-WR-CALDESC:Eventos para JACETANIA EXPRESS
REFRESH-INTERVAL;VALUE=DURATION:PT1H
X-Robots-Tag:noindex
X-PUBLISHED-TTL:PT1H
BEGIN:VTIMEZONE
TZID:Europe/Paris
BEGIN:DAYLIGHT
TZOFFSETFROM:+0100
TZOFFSETTO:+0200
TZNAME:CEST
DTSTART:20250330T010000
END:DAYLIGHT
BEGIN:STANDARD
TZOFFSETFROM:+0200
TZOFFSETTO:+0100
TZNAME:CET
DTSTART:20251026T010000
END:STANDARD
BEGIN:DAYLIGHT
TZOFFSETFROM:+0100
TZOFFSETTO:+0200
TZNAME:CEST
DTSTART:20260329T010000
END:DAYLIGHT
BEGIN:STANDARD
TZOFFSETFROM:+0200
TZOFFSETTO:+0100
TZNAME:CET
DTSTART:20261025T010000
END:STANDARD
BEGIN:DAYLIGHT
TZOFFSETFROM:+0100
TZOFFSETTO:+0200
TZNAME:CEST
DTSTART:20270328T010000
END:DAYLIGHT
BEGIN:STANDARD
TZOFFSETFROM:+0200
TZOFFSETTO:+0100
TZNAME:CET
DTSTART:20271031T010000
END:STANDARD
END:VTIMEZONE
BEGIN:VEVENT
DTSTART;VALUE=DATE:20260425
DTEND;VALUE=DATE:20260426
DTSTAMP:20260421T202628
CREATED:20260420T221524Z
LAST-MODIFIED:20260420T221524Z
UID:244385-1777075200-1777161599@jacetaniaexpress.com
SUMMARY:Día del Libro y Día de San Jorge en Bailo
DESCRIPTION:Bailo celebra el Día del Libro y el Día de San Jorge con un guiño a Gloria Fuertes. Será el 25 de abril\, en la biblioteca municipal\, con Sara Labordeta. Organiza Acurba\, Asociación Cultural y Recreativa de Bailo.
URL:https://jacetaniaexpress.com/evento/dia-del-libro-y-dia-de-san-jorge-en-bailo/
ATTACH;FMTTYPE=image/jpeg:https://jacetaniaexpress.com/wp-content/uploads/2026/04/672690011_1281566644080201_1639713417797920805_n.jpg
END:VEVENT
END:VCALENDAR