BEGIN:VCALENDAR
VERSION:2.0
PRODID:-//JACETANIA EXPRESS - ECPv6.15.20//NONSGML v1.0//EN
CALSCALE:GREGORIAN
METHOD:PUBLISH
X-ORIGINAL-URL:https://jacetaniaexpress.com
X-WR-CALDESC:Eventos para JACETANIA EXPRESS
REFRESH-INTERVAL;VALUE=DURATION:PT1H
X-Robots-Tag:noindex
X-PUBLISHED-TTL:PT1H
BEGIN:VTIMEZONE
TZID:Europe/Paris
BEGIN:DAYLIGHT
TZOFFSETFROM:+0100
TZOFFSETTO:+0200
TZNAME:CEST
DTSTART:20250330T010000
END:DAYLIGHT
BEGIN:STANDARD
TZOFFSETFROM:+0200
TZOFFSETTO:+0100
TZNAME:CET
DTSTART:20251026T010000
END:STANDARD
BEGIN:DAYLIGHT
TZOFFSETFROM:+0100
TZOFFSETTO:+0200
TZNAME:CEST
DTSTART:20260329T010000
END:DAYLIGHT
BEGIN:STANDARD
TZOFFSETFROM:+0200
TZOFFSETTO:+0100
TZNAME:CET
DTSTART:20261025T010000
END:STANDARD
BEGIN:DAYLIGHT
TZOFFSETFROM:+0100
TZOFFSETTO:+0200
TZNAME:CEST
DTSTART:20270328T010000
END:DAYLIGHT
BEGIN:STANDARD
TZOFFSETFROM:+0200
TZOFFSETTO:+0100
TZNAME:CET
DTSTART:20271031T010000
END:STANDARD
END:VTIMEZONE
BEGIN:VEVENT
DTSTART;VALUE=DATE:20260415
DTEND;VALUE=DATE:20260423
DTSTAMP:20260426T063555
CREATED:20260414T205914Z
LAST-MODIFIED:20260414T205914Z
UID:243834-1776211200-1776902399@jacetaniaexpress.com
SUMMARY:Puntos informativos en Jaca y Sabiñánigo sobre la prórroga en el alquiler de la vivienda
DESCRIPTION:Puntos informativos en Jaca y Sabiñánigo sobre la prórroga en el alquiler de la vivienda
URL:https://jacetaniaexpress.com/evento/puntos-informativos-en-jaca-y-sabinanigo-sobre-la-prorroga-en-el-alquiler-de-la-vivienda/
ATTACH;FMTTYPE=image/jpeg:https://jacetaniaexpress.com/wp-content/uploads/2026/04/Prorroga-de-alquiler.jpeg
END:VEVENT
END:VCALENDAR